BEGIN:VCALENDAR
VERSION:2.0
PRODID:-//eventon.com NONSGML v1.0//EN
CALSCALE:GREGORIAN
METHOD:PUBLISH
BEGIN:VEVENT
UID:69e570eee8b3e
DTSTAMP:20260420T001854Z
DTSTART:20260424
DTEND:20260425
LOCATION:
SUMMARY:Wake Up Bears
DESCRIPTION:Help us wake up those hibernating Bears! Book Now!\nhttps://jel
 lystoneindy.com/events/wake-up-bears/
URL:https://jellystoneindy.com/events/wake-up-bears/
END:VEVENT
END:VCALENDAR