BEGIN:VCALENDAR
VERSION:2.0
PRODID:-//eventon.com NONSGML v1.0//EN
CALSCALE:GREGORIAN
METHOD:PUBLISH
BEGIN:VEVENT
UID:69e748793a833
DTSTAMP:20260421T095049Z
DTSTART:20260501
DTEND:20260502
LOCATION:
SUMMARY:Aliens & Astronauts
DESCRIPTION:Aliens & Astronauts Weekend Book Now!\nhttps://jellystoneindy.c
 om/events/aliens-astronauts/
URL:https://jellystoneindy.com/events/aliens-astronauts/
END:VEVENT
END:VCALENDAR