BEGIN:VCALENDAR
VERSION:2.0
PRODID:-//eventon.com NONSGML v1.0//EN
CALSCALE:GREGORIAN
METHOD:PUBLISH
BEGIN:VEVENT
UID:69e74bc99d8af
DTSTAMP:20260421T100457Z
DTSTART:20260717
DTEND:20260718
LOCATION:
SUMMARY:Winter Wonderland
DESCRIPTION:Winter Wonderland Weekend\nhttps://jellystoneindy.com/events/wi
 nter-wonderland/
URL:https://jellystoneindy.com/events/winter-wonderland/
END:VEVENT
END:VCALENDAR