BEGIN:VCALENDAR
VERSION:2.0
PRODID:-//eventon.com NONSGML v1.0//EN
CALSCALE:GREGORIAN
METHOD:PUBLISH
BEGIN:VEVENT
UID:69eb423185e7b
DTSTAMP:20260424T101305Z
DTSTART:20260724
DTEND:20260725
LOCATION:
SUMMARY:Beary Christmas
DESCRIPTION:Beary Christmas Weekend\nhttps://jellystoneindy.com/events/chri
 stmas-in-july/
URL:https://jellystoneindy.com/events/christmas-in-july/
END:VEVENT
END:VCALENDAR